BEGIN:VCALENDAR
VERSION:2.0
PRODID:-//Squarespace Inc/Squarespace 6//v6//EN
BEGIN:VEVENT
UID:5b2bbf088a922da9435eec5d@squarespace.com
DTSTAMP:20180621T154533Z
DTSTART:20180709T153000Z
DTEND:20180713T230000Z
SUMMARY:EWM Henry's Point Treatment
GEO:47.793203;-116.693757
LOCATION:Henry's Point\, 6836 E Henry Point Rd\, Hayden\, ID\, 83835\, Unit
 ed States
END:VEVENT
END:VCALENDAR
