BEGIN:VCALENDAR
VERSION:2.0
PRODID:-//Squarespace Inc/Squarespace 6//v6//EN
BEGIN:VEVENT
UID:5b2c1b05352f53bd7c481677@squarespace.com
DTSTAMP:20180621T214159Z
DTSTART:20180723T220000Z
DTEND:20180727T230000Z
SUMMARY:Lake Pend Oreille EWM Surveys
GEO:48.195174;-116.251998
LOCATION:Denton Slough
END:VEVENT
END:VCALENDAR
