BEGIN:VCALENDAR
VERSION:2.0
PRODID:-//Squarespace Inc/Squarespace 6//v6//EN
BEGIN:VEVENT
UID:5b50b547575d1f19cf1ec6a8@squarespace.com
DTSTAMP:20180719T155953Z
DTSTART:20180723T160000Z
DTEND:20180727T170000Z
SUMMARY:Cocolalla Lake Treatments
GEO:48.137759;-116.608835
LOCATION:cocolalla\, 36 Melody Ln\, Cocolalla\, ID\, 83813\, United States
END:VEVENT
END:VCALENDAR
