BEGIN:VCALENDAR
VERSION:2.0
PRODID:-//Squarespace Inc/Squarespace 6//v6//EN
BEGIN:VEVENT
UID:5b2c1bb68a922dcc155e1bab@squarespace.com
DTSTAMP:20180621T214506Z
DTSTART:20180723T220000Z
DTEND:20180727T230000Z
SUMMARY:Anderson Lake EWM Surveys
GEO:47.468349;-116.745672
LOCATION:Anderson Lake\, Trail of the Coeur d'Alenes\, Harrison\, ID\, 8383
 3\, United States
END:VEVENT
END:VCALENDAR
