BEGIN:VCALENDAR
VERSION:2.0
PRODID:-//Squarespace Inc/Squarespace 6//v6//EN
BEGIN:VEVENT
UID:5b50b3778a922d3211b27b58@squarespace.com
DTSTAMP:20180719T155440Z
DTSTART:20180723T160000Z
DTEND:20180727T170000Z
SUMMARY:Hayden Lake Shoreline Treatment
GEO:47.808854;-116.69403
LOCATION:hayden lake\, 15402 N Sportsman Park Rd\, Hayden\, ID\, 83835\, Un
 ited States
END:VEVENT
END:VCALENDAR
